Package: apeglm Version: 1.29.0 Command: rm -rf apeglm.buildbin-libdir && mkdir apeglm.buildbin-libdir && E:\biocbuild\bbs-3.21-bioc\R\bin\R.exe CMD INSTALL --build --library=apeglm.buildbin-libdir apeglm_1.29.0.tar.gz StartedAt: 2025-02-04 07:28:19 -0500 (Tue, 04 Feb 2025) EndedAt: 2025-02-04 07:29:47 -0500 (Tue, 04 Feb 2025) EllapsedTime: 88.1 seconds RetCode: 0 Status: OK PackageFile: apeglm_1.29.0.zip PackageFileSize: 895.2 KiB