Package: apeglm Version: 1.29.0 Command: /home/biocbuild/R/R/bin/R CMD INSTALL apeglm StartedAt: 2025-01-29 19:58:23 -0000 (Wed, 29 Jan 2025) EndedAt: 2025-01-29 19:59:49 -0000 (Wed, 29 Jan 2025) EllapsedTime: 86.2 seconds RetCode: 0 Status: OK