Package: apeglm Version: 1.29.0 Command: /Library/Frameworks/R.framework/Resources/bin/R CMD check --install=check:apeglm.install-out.txt --library=/Library/Frameworks/R.framework/Resources/library --no-vignettes --timings apeglm_1.29.0.tar.gz StartedAt: 2025-02-03 18:40:26 -0500 (Mon, 03 Feb 2025) EndedAt: 2025-02-03 18:41:32 -0500 (Mon, 03 Feb 2025) EllapsedTime: 65.9 seconds RetCode: 0 Status: OK CheckDir: apeglm.Rcheck Warnings: 0