Package: apComplex Version: 2.75.0 Command: /Library/Frameworks/R.framework/Resources/bin/R CMD INSTALL apComplex StartedAt: 2025-05-09 15:10:03 -0400 (Fri, 09 May 2025) EndedAt: 2025-05-09 15:10:09 -0400 (Fri, 09 May 2025) EllapsedTime: 6.3 seconds RetCode: 0 Status: OK