Package: antiProfiles Version: 1.49.0 Command: F:\biocbuild\bbs-3.22-bioc\R\bin\R.exe CMD INSTALL antiProfiles StartedAt: 2025-08-14 15:20:25 -0400 (Thu, 14 Aug 2025) EndedAt: 2025-08-14 15:20:55 -0400 (Thu, 14 Aug 2025) EllapsedTime: 29.7 seconds RetCode: 0 Status: OK