Package: antiProfiles Version: 1.47.0 Command: /home/biocbuild/R/R/bin/R CMD INSTALL antiProfiles StartedAt: 2025-01-29 19:32:51 -0000 (Wed, 29 Jan 2025) EndedAt: 2025-01-29 19:32:58 -0000 (Wed, 29 Jan 2025) EllapsedTime: 7.7 seconds RetCode: 0 Status: OK