Package: anota2seq Version: 1.31.0 Command: /home/biocbuild/bbs-3.22-bioc/R/bin/R CMD INSTALL anota2seq StartedAt: 2025-10-17 15:20:33 -0400 (Fri, 17 Oct 2025) EndedAt: 2025-10-17 15:21:06 -0400 (Fri, 17 Oct 2025) EllapsedTime: 32.1 seconds RetCode: 0 Status: OK