Package: anota2seq Version: 1.31.0 Command: /home/biocbuild/bbs-3.22-bioc/R/bin/R CMD build --keep-empty-dirs --no-resave-data --md5 anota2seq StartedAt: 2025-10-17 16:11:04 -0400 (Fri, 17 Oct 2025) EndedAt: 2025-10-17 16:13:29 -0400 (Fri, 17 Oct 2025) EllapsedTime: 144.1 seconds RetCode: 0 Status: OK PackageFile: anota2seq_1.31.0.tar.gz PackageFileSize: 1.001 MiB