Package: anota2seq Version: 1.31.0 Command: rm -rf anota2seq.buildbin-libdir && mkdir anota2seq.buildbin-libdir && /Users/biocbuild/BBS/utils/build-universal.sh anota2seq_1.31.0.tar.gz /Library/Frameworks/R.framework/Resources/bin/R anota2seq.buildbin-libdir StartedAt: 2025-10-08 22:38:49 -0400 (Wed, 08 Oct 2025) EndedAt: 2025-10-08 22:39:02 -0400 (Wed, 08 Oct 2025) EllapsedTime: 13.3 seconds RetCode: 0 Status: OK PackageFile: anota2seq_1.31.0.tgz PackageFileSize: 1.5 MiB