Package: anota Version: 1.57.0 Command: /home/biocbuild/R/R/bin/R CMD build --keep-empty-dirs --no-resave-data anota StartedAt: 2025-10-02 21:46:12 -0000 (Thu, 02 Oct 2025) EndedAt: 2025-10-02 21:46:49 -0000 (Thu, 02 Oct 2025) EllapsedTime: 37.0 seconds RetCode: 0 Status: OK PackageFile: anota_1.57.0.tar.gz PackageFileSize: 936.8 KiB