Package: anota Version: 1.57.0 Command: F:\biocbuild\bbs-3.22-bioc\R\bin\R.exe CMD INSTALL anota StartedAt: 2025-08-14 15:37:17 -0400 (Thu, 14 Aug 2025) EndedAt: 2025-08-14 15:37:33 -0400 (Thu, 14 Aug 2025) EllapsedTime: 15.5 seconds RetCode: 0 Status: OK