Package: anota Version: 1.58.0 Command: /home/biocbuild/bbs-3.22-bioc/R/bin/R CMD INSTALL anota StartedAt: 2025-10-29 21:28:41 -0400 (Wed, 29 Oct 2025) EndedAt: 2025-10-29 21:28:51 -0400 (Wed, 29 Oct 2025) EllapsedTime: 10.4 seconds RetCode: 0 Status: OK