Package: anota Version: 1.58.0 Command: /home/biocbuild/bbs-3.22-bioc/R/bin/R CMD build --keep-empty-dirs --no-resave-data --md5 anota StartedAt: 2025-10-29 22:30:29 -0400 (Wed, 29 Oct 2025) EndedAt: 2025-10-29 22:30:59 -0400 (Wed, 29 Oct 2025) EllapsedTime: 30.0 seconds RetCode: 0 Status: OK PackageFile: anota_1.58.0.tar.gz PackageFileSize: 944 KiB