Package: anota Version: 1.57.0 Command: /Library/Frameworks/R.framework/Resources/bin/R CMD INSTALL anota StartedAt: 2025-05-27 15:06:18 -0400 (Tue, 27 May 2025) EndedAt: 2025-05-27 15:06:23 -0400 (Tue, 27 May 2025) EllapsedTime: 4.2 seconds RetCode: 0 Status: OK