Package: annotatr Version: 1.35.0 Command: /Library/Frameworks/R.framework/Resources/bin/R CMD build --keep-empty-dirs --no-resave-data annotatr StartedAt: 2025-05-09 15:39:08 -0400 (Fri, 09 May 2025) EndedAt: 2025-05-09 15:40:01 -0400 (Fri, 09 May 2025) EllapsedTime: 52.7 seconds RetCode: 0 Status: OK PackageFile: annotatr_1.35.0.tar.gz PackageFileSize: 2.45 MiB