Package: annotationTools Version: 1.83.0 Command: /home/biocbuild/R/R/bin/R CMD build --keep-empty-dirs --no-resave-data annotationTools StartedAt: 2025-10-23 21:42:51 -0000 (Thu, 23 Oct 2025) EndedAt: 2025-10-23 21:43:00 -0000 (Thu, 23 Oct 2025) EllapsedTime: 9.0 seconds RetCode: 0 Status: OK PackageFile: annotationTools_1.83.0.tar.gz PackageFileSize: 326.7 KiB