Package: annotate Version: 1.85.0 Command: E:\biocbuild\bbs-3.21-bioc\R\bin\R.exe CMD INSTALL annotate StartedAt: 2025-02-16 15:42:34 -0500 (Sun, 16 Feb 2025) EndedAt: 2025-02-16 15:43:33 -0500 (Sun, 16 Feb 2025) EllapsedTime: 58.9 seconds RetCode: 0 Status: OK