Package: annotate Version: 1.85.0 Command: chmod a+r annotate -R && E:\biocbuild\bbs-3.21-bioc\R\bin\R.exe CMD build --keep-empty-dirs --no-resave-data annotate StartedAt: 2025-02-16 17:06:19 -0500 (Sun, 16 Feb 2025) EndedAt: 2025-02-16 17:08:38 -0500 (Sun, 16 Feb 2025) EllapsedTime: 139.3 seconds RetCode: 0 Status: OK PackageFile: annotate_1.85.0.tar.gz PackageFileSize: 1.696 MiB