Package: annotate Version: 1.87.0 Command: /home/biocbuild/bbs-3.22-bioc/R/bin/R CMD check --install=check:annotate.install-out.txt --library=/home/biocbuild/bbs-3.22-bioc/R/site-library --timings annotate_1.87.0.tar.gz StartedAt: 2025-09-30 21:00:04 -0400 (Tue, 30 Sep 2025) EndedAt: 2025-09-30 21:04:10 -0400 (Tue, 30 Sep 2025) EllapsedTime: 246.4 seconds RetCode: 0 Status: OK CheckDir: annotate.Rcheck Warnings: 0