Package: annotate Version: 1.85.0 Command: rm -rf annotate.buildbin-libdir && mkdir annotate.buildbin-libdir && /Users/biocbuild/BBS/utils/build-universal.sh annotate_1.85.0.tar.gz /Library/Frameworks/R.framework/Resources/bin/R annotate.buildbin-libdir StartedAt: 2025-02-17 00:09:40 -0500 (Mon, 17 Feb 2025) EndedAt: 2025-02-17 00:10:07 -0500 (Mon, 17 Feb 2025) EllapsedTime: 26.5 seconds RetCode: 0 Status: OK PackageFile: annotate_1.85.0.tgz PackageFileSize: 2.08 MiB