Package: annmap Version: 1.51.0 Command: /home/biocbuild/bbs-3.22-bioc/R/bin/R CMD INSTALL annmap StartedAt: 2025-10-10 15:41:37 -0400 (Fri, 10 Oct 2025) EndedAt: 2025-10-10 15:41:59 -0400 (Fri, 10 Oct 2025) EllapsedTime: 22.1 seconds RetCode: 0 Status: OK