Package: annmap Version: 1.51.0 Command: /home/biocbuild/bbs-3.22-bioc/R/bin/R CMD build --keep-empty-dirs --no-resave-data --md5 annmap StartedAt: 2025-10-10 16:22:48 -0400 (Fri, 10 Oct 2025) EndedAt: 2025-10-10 16:23:22 -0400 (Fri, 10 Oct 2025) EllapsedTime: 34.0 seconds RetCode: 0 Status: OK PackageFile: annmap_1.51.0.tar.gz PackageFileSize: 1.006 MiB