Package: anndataR Version: 1.1.0 Command: /home/biocbuild/bbs-3.23-bioc/R/bin/R CMD INSTALL anndataR StartedAt: 2025-11-06 15:10:26 -0500 (Thu, 06 Nov 2025) EndedAt: 2025-11-06 15:10:36 -0500 (Thu, 06 Nov 2025) EllapsedTime: 9.9 seconds RetCode: 0 Status: OK