Package: anndataR Version: 1.1.0 Command: /home/biocbuild/bbs-3.23-bioc/R/bin/R CMD build --keep-empty-dirs --no-resave-data anndataR StartedAt: 2025-11-06 16:10:09 -0500 (Thu, 06 Nov 2025) EndedAt: 2025-11-06 16:12:46 -0500 (Thu, 06 Nov 2025) EllapsedTime: 157.2 seconds RetCode: 0 Status: OK PackageFile: anndataR_1.1.0.tar.gz PackageFileSize: 2.097 MiB