Package: annaffy Version: 1.81.0 Command: /home/biocbuild/bbs-3.22-bioc/R/bin/R CMD INSTALL annaffy StartedAt: 2025-10-17 15:43:54 -0400 (Fri, 17 Oct 2025) EndedAt: 2025-10-17 15:44:10 -0400 (Fri, 17 Oct 2025) EllapsedTime: 16.0 seconds RetCode: 0 Status: OK