Package: animalcules Version: 1.25.0 Command: /home/biocbuild/R/R/bin/R CMD build --keep-empty-dirs --no-resave-data animalcules StartedAt: 2025-10-02 21:44:37 -0000 (Thu, 02 Oct 2025) EndedAt: 2025-10-02 21:46:08 -0000 (Thu, 02 Oct 2025) EllapsedTime: 91.0 seconds RetCode: 0 Status: OK PackageFile: animalcules_1.25.0.tar.gz PackageFileSize: 3.756 MiB