Package: animalcules Version: 1.23.0 Command: /home/biocbuild/bbs-3.21-bioc/R/bin/R CMD INSTALL animalcules StartedAt: 2025-02-03 15:30:27 -0500 (Mon, 03 Feb 2025) EndedAt: 2025-02-03 15:30:58 -0500 (Mon, 03 Feb 2025) EllapsedTime: 30.8 seconds RetCode: 0 Status: OK