Package: animalcules Version: 1.25.0 Command: /Library/Frameworks/R.framework/Resources/bin/R CMD build --keep-empty-dirs --no-resave-data animalcules StartedAt: 2025-10-03 15:59:42 -0400 (Fri, 03 Oct 2025) EndedAt: 2025-10-03 16:00:59 -0400 (Fri, 03 Oct 2025) EllapsedTime: 76.8 seconds RetCode: 0 Status: OK PackageFile: animalcules_1.25.0.tar.gz PackageFileSize: 3.325 MiB