Package: animalcules Version: 1.25.0 Command: /Library/Frameworks/R.framework/Resources/bin/R CMD INSTALL animalcules StartedAt: 2025-05-05 15:13:38 -0400 (Mon, 05 May 2025) EndedAt: 2025-05-05 15:13:52 -0400 (Mon, 05 May 2025) EllapsedTime: 13.9 seconds RetCode: 0 Status: OK