Package: animalcules Version: 1.25.0 Command: /Library/Frameworks/R.framework/Resources/bin/R CMD check --install=check:animalcules.install-out.txt --library=/Library/Frameworks/R.framework/Resources/library --no-vignettes --timings animalcules_1.25.0.tar.gz StartedAt: 2025-05-07 18:12:22 -0400 (Wed, 07 May 2025) EndedAt: 2025-05-07 18:14:18 -0400 (Wed, 07 May 2025) EllapsedTime: 115.6 seconds RetCode: 1 Status: ERROR CheckDir: animalcules.Rcheck Warnings: NA