Package: anglemania Version: 0.99.7 Command: /home/biocbuild/bbs-3.22-bioc/R/bin/R CMD INSTALL anglemania StartedAt: 2025-10-24 15:32:38 -0400 (Fri, 24 Oct 2025) EndedAt: 2025-10-24 15:33:10 -0400 (Fri, 24 Oct 2025) EllapsedTime: 32.1 seconds RetCode: 0 Status: OK