Package: anglemania Version: 0.99.7 Command: /home/biocbuild/bbs-3.22-bioc/R/bin/R CMD build --keep-empty-dirs --no-resave-data --md5 anglemania StartedAt: 2025-10-24 16:21:33 -0400 (Fri, 24 Oct 2025) EndedAt: 2025-10-24 16:33:06 -0400 (Fri, 24 Oct 2025) EllapsedTime: 692.6 seconds RetCode: 0 Status: OK PackageFile: anglemania_0.99.7.tar.gz PackageFileSize: 6.814 MiB