Package: anansi Version: 0.99.4 Command: /home/biocbuild/bbs-3.22-bioc/R/bin/R CMD INSTALL anansi StartedAt: 2025-10-19 15:25:28 -0400 (Sun, 19 Oct 2025) EndedAt: 2025-10-19 15:26:03 -0400 (Sun, 19 Oct 2025) EllapsedTime: 34.8 seconds RetCode: 0 Status: OK