Package: anansi Version: 1.1.0 Command: /home/biocbuild/bbs-3.23-bioc/R/bin/R CMD build --keep-empty-dirs --no-resave-data anansi StartedAt: 2025-11-21 16:10:52 -0500 (Fri, 21 Nov 2025) EndedAt: 2025-11-21 16:12:04 -0500 (Fri, 21 Nov 2025) EllapsedTime: 72.1 seconds RetCode: 0 Status: OK PackageFile: anansi_1.1.0.tar.gz PackageFileSize: 4.24 MiB