Package: amplican Version: 1.31.2 Command: /home/biocbuild/bbs-3.22-bioc/R/bin/R CMD INSTALL amplican StartedAt: 2025-10-03 16:05:58 -0400 (Fri, 03 Oct 2025) EndedAt: 2025-10-03 16:05:59 -0400 (Fri, 03 Oct 2025) EllapsedTime: 0.2 seconds RetCode: 1 Status: ERROR