Package: amplican Version: 1.31.2 Command: /home/biocbuild/bbs-3.22-bioc/R/bin/R CMD build --keep-empty-dirs --no-resave-data --md5 amplican StartedAt: 2025-10-03 16:09:00 -0400 (Fri, 03 Oct 2025) EndedAt: 2025-10-03 16:09:01 -0400 (Fri, 03 Oct 2025) EllapsedTime: 1.0 seconds RetCode: 1 Status: ERROR PackageFile: None PackageFileSize: NA