Package: amplican Version: 1.29.0 Command: /home/biocbuild/R/R/bin/R CMD build --keep-empty-dirs --no-resave-data amplican StartedAt: 2025-01-29 20:48:43 -0000 (Wed, 29 Jan 2025) EndedAt: 2025-01-29 20:51:13 -0000 (Wed, 29 Jan 2025) EllapsedTime: 150.1 seconds RetCode: 0 Status: OK PackageFile: amplican_1.29.0.tar.gz PackageFileSize: 7.662 MiB