Package: amplican Version: 1.31.0 Command: /Library/Frameworks/R.framework/Resources/bin/R CMD check --install=check:amplican.install-out.txt --library=/Library/Frameworks/R.framework/Resources/library --no-vignettes --timings amplican_1.31.0.tar.gz StartedAt: 2025-05-09 18:13:19 -0400 (Fri, 09 May 2025) EndedAt: 2025-05-09 18:14:16 -0400 (Fri, 09 May 2025) EllapsedTime: 57.8 seconds RetCode: 1 Status: ERROR CheckDir: amplican.Rcheck Warnings: NA