Package: amplican Version: 1.31.0 Command: /Library/Frameworks/R.framework/Resources/bin/R CMD build --keep-empty-dirs --no-resave-data amplican StartedAt: 2025-05-09 15:38:27 -0400 (Fri, 09 May 2025) EndedAt: 2025-05-09 15:38:58 -0400 (Fri, 09 May 2025) EllapsedTime: 31.4 seconds RetCode: 0 Status: OK PackageFile: amplican_1.31.0.tar.gz PackageFileSize: 10.97 MiB