Package: amplican Version: 1.31.0 Command: rm -rf amplican.buildbin-libdir && mkdir amplican.buildbin-libdir && /Users/biocbuild/BBS/utils/build-universal.sh amplican_1.31.0.tar.gz /Library/Frameworks/R.framework/Resources/bin/R amplican.buildbin-libdir StartedAt: 2025-05-09 22:31:40 -0400 (Fri, 09 May 2025) EndedAt: 2025-05-09 22:31:52 -0400 (Fri, 09 May 2025) EllapsedTime: 11.3 seconds RetCode: 0 Status: OK PackageFile: amplican_1.31.0.tgz PackageFileSize: 9.618 MiB