Package: altcdfenvs Version: 2.71.0 Command: chmod a+r altcdfenvs -R && F:\biocbuild\bbs-3.22-bioc\R\bin\R.exe CMD build --keep-empty-dirs --no-resave-data altcdfenvs StartedAt: 2025-08-14 18:24:41 -0400 (Thu, 14 Aug 2025) EndedAt: 2025-08-14 18:27:33 -0400 (Thu, 14 Aug 2025) EllapsedTime: 171.9 seconds RetCode: 0 Status: OK PackageFile: altcdfenvs_2.71.0.tar.gz PackageFileSize: 325.2 KiB