Package: alevinQC Version: 1.25.1 Command: /home/biocbuild/bbs-3.22-bioc/R/bin/R CMD INSTALL alevinQC StartedAt: 2025-10-13 15:12:41 -0400 (Mon, 13 Oct 2025) EndedAt: 2025-10-13 15:12:58 -0400 (Mon, 13 Oct 2025) EllapsedTime: 17.7 seconds RetCode: 0 Status: OK