Package: alevinQC Version: 1.25.1 Command: /home/biocbuild/bbs-3.22-bioc/R/bin/R CMD build --keep-empty-dirs --no-resave-data --md5 alevinQC StartedAt: 2025-10-13 16:12:17 -0400 (Mon, 13 Oct 2025) EndedAt: 2025-10-13 16:12:56 -0400 (Mon, 13 Oct 2025) EllapsedTime: 39.0 seconds RetCode: 0 Status: OK PackageFile: alevinQC_1.25.1.tar.gz PackageFileSize: 7.553 MiB