Package: alevinQC Version: 1.23.1 Command: /home/biocbuild/bbs-3.21-bioc/R/bin/R CMD INSTALL alevinQC StartedAt: 2025-02-03 15:19:21 -0500 (Mon, 03 Feb 2025) EndedAt: 2025-02-03 15:19:37 -0500 (Mon, 03 Feb 2025) EllapsedTime: 15.8 seconds RetCode: 0 Status: OK