Package: alevinQC Version: 1.23.1 Command: /home/biocbuild/bbs-3.21-bioc/R/bin/R CMD check --install=check:alevinQC.install-out.txt --library=/home/biocbuild/bbs-3.21-bioc/R/site-library --timings alevinQC_1.23.1.tar.gz StartedAt: 2025-02-03 20:06:00 -0500 (Mon, 03 Feb 2025) EndedAt: 2025-02-03 20:08:33 -0500 (Mon, 03 Feb 2025) EllapsedTime: 153.2 seconds RetCode: 0 Status: OK CheckDir: alevinQC.Rcheck Warnings: 0