Package: alevinQC Version: 1.23.1 Command: /Library/Frameworks/R.framework/Resources/bin/R CMD INSTALL alevinQC StartedAt: 2025-02-03 15:29:58 -0500 (Mon, 03 Feb 2025) EndedAt: 2025-02-03 15:30:14 -0500 (Mon, 03 Feb 2025) EllapsedTime: 15.6 seconds RetCode: 0 Status: OK