Package: alevinQC Version: 1.23.1 Command: rm -rf alevinQC.buildbin-libdir && mkdir alevinQC.buildbin-libdir && /Users/biocbuild/BBS/utils/build-universal.sh alevinQC_1.23.1.tar.gz /Library/Frameworks/R.framework/Resources/bin/R alevinQC.buildbin-libdir StartedAt: 2025-02-03 22:41:25 -0500 (Mon, 03 Feb 2025) EndedAt: 2025-02-03 22:41:32 -0500 (Mon, 03 Feb 2025) EllapsedTime: 7.2 seconds RetCode: 0 Status: OK PackageFile: alevinQC_1.23.1.tgz PackageFileSize: 8.015 MiB