Package: alabaster Version: 1.7.0 Command: E:\biocbuild\bbs-3.21-bioc\R\bin\R.exe CMD INSTALL alabaster StartedAt: 2025-02-04 16:46:22 -0500 (Tue, 04 Feb 2025) EndedAt: 2025-02-04 16:47:14 -0500 (Tue, 04 Feb 2025) EllapsedTime: 51.8 seconds RetCode: 0 Status: OK