Package: alabaster Version: 1.7.0 Command: chmod a+r alabaster -R && E:\biocbuild\bbs-3.21-bioc\R\bin\R.exe CMD build --keep-empty-dirs --no-resave-data alabaster StartedAt: 2025-02-04 17:07:03 -0500 (Tue, 04 Feb 2025) EndedAt: 2025-02-04 17:08:11 -0500 (Tue, 04 Feb 2025) EllapsedTime: 67.6 seconds RetCode: 0 Status: OK PackageFile: alabaster_1.7.0.tar.gz PackageFileSize: 215.7 KiB