Package: alabaster Version: 1.7.0 Command: rm -rf alabaster.buildbin-libdir && mkdir alabaster.buildbin-libdir && E:\biocbuild\bbs-3.21-bioc\R\bin\R.exe CMD INSTALL --build --library=alabaster.buildbin-libdir alabaster_1.7.0.tar.gz StartedAt: 2025-02-05 07:23:38 -0500 (Wed, 05 Feb 2025) EndedAt: 2025-02-05 07:24:37 -0500 (Wed, 05 Feb 2025) EllapsedTime: 59.0 seconds RetCode: 0 Status: OK PackageFile: alabaster_1.7.0.zip PackageFileSize: 224.8 KiB